BEGIN:VCALENDAR
VERSION:2.0
PRODID:-//Santa Fe Botanical Garden - ECPv6.15.20//NONSGML v1.0//EN
CALSCALE:GREGORIAN
METHOD:PUBLISH
X-WR-CALNAME:Santa Fe Botanical Garden
X-ORIGINAL-URL:https://visitsfbg.org
X-WR-CALDESC:Events for Santa Fe Botanical Garden
REFRESH-INTERVAL;VALUE=DURATION:PT1H
X-Robots-Tag:noindex
X-PUBLISHED-TTL:PT1H
BEGIN:VTIMEZONE
TZID:America/Denver
BEGIN:DAYLIGHT
TZOFFSETFROM:-0700
TZOFFSETTO:-0600
TZNAME:MDT
DTSTART:20250309T090000
END:DAYLIGHT
BEGIN:STANDARD
TZOFFSETFROM:-0600
TZOFFSETTO:-0700
TZNAME:MST
DTSTART:20251102T080000
END:STANDARD
BEGIN:DAYLIGHT
TZOFFSETFROM:-0700
TZOFFSETTO:-0600
TZNAME:MDT
DTSTART:20260308T090000
END:DAYLIGHT
BEGIN:STANDARD
TZOFFSETFROM:-0600
TZOFFSETTO:-0700
TZNAME:MST
DTSTART:20261101T080000
END:STANDARD
BEGIN:DAYLIGHT
TZOFFSETFROM:-0700
TZOFFSETTO:-0600
TZNAME:MDT
DTSTART:20270314T090000
END:DAYLIGHT
BEGIN:STANDARD
TZOFFSETFROM:-0600
TZOFFSETTO:-0700
TZNAME:MST
DTSTART:20271107T080000
END:STANDARD
END:VTIMEZONE
BEGIN:VEVENT
DTSTART;TZID=America/Denver:20260123T110000
DTEND;TZID=America/Denver:20260123T120000
DTSTAMP:20260423T010446
CREATED:20251222T193642Z
LAST-MODIFIED:20260107T000752Z
UID:38339262-1769166000-1769169600@visitsfbg.org
SUMMARY:Sunflower: History\, Culture\, and Evolution
DESCRIPTION:Members: $10.00; Not-Members-Yet: $15.00 \nSunflower: History\, Culture\, and Evolution invites audiences to look beyond the familiar bloom to discover sunflowers as powerful plants of food\, ceremony\, art\, and science\, shaped over millennia by human relationships and natural selection. As part of the Santa Fe Botanical Garden’s Plants and People Program\, this talk by Thomas M. Antonio\, Ph.D.\, draws on Indigenous perspectives and evolutionary insight to reveal why sunflowers continue to matter today. \nDr. Thomas Antonio has taught at the Institute of American Indian Arts (IAIA) for 14 years. He received his PhD in Botany from the University of Oklahoma\, his doctoral research took place in Central & South America. Before IAIA he was a professor at the College of Santa Fe and took students each year to Brazil. He worked as a botanist for many years at the Chicago Botanic Garden where he authored a book on Sunflowers. \n\nCancellations and refunds: If you need to cancel\, please contact us at 505.471.9103. There are no refunds. \n\n\n**SFBG Members** You must sign in to receive your member discount. If you receive an error or have questions\, email info@santafebotanicalgarden.org. \n\n\nNot yet a member? Join/renew here for discounts and benefits all year long! \n\n 
URL:https://visitsfbg.org/event/sunflower-history-culture-and-evolution/
LOCATION:Udall Building\, 725 Camino Lejo\, Santa Fe\, NM\, 87505\, United States
CATEGORIES:Adult Programs
ATTACH;FMTTYPE=image/jpeg:https://visitsfbg.org/wp-content/uploads/Sunflower-cover-pic-1.jpeg
END:VEVENT
END:VCALENDAR