BEGIN:VCALENDAR
VERSION:2.0
PRODID:-//Santa Fe Botanical Garden - ECPv6.15.20//NONSGML v1.0//EN
CALSCALE:GREGORIAN
METHOD:PUBLISH
X-ORIGINAL-URL:https://visitsfbg.org
X-WR-CALDESC:Events for Santa Fe Botanical Garden
REFRESH-INTERVAL;VALUE=DURATION:PT1H
X-Robots-Tag:noindex
X-PUBLISHED-TTL:PT1H
BEGIN:VTIMEZONE
TZID:America/Denver
BEGIN:DAYLIGHT
TZOFFSETFROM:-0700
TZOFFSETTO:-0600
TZNAME:MDT
DTSTART:20250309T090000
END:DAYLIGHT
BEGIN:STANDARD
TZOFFSETFROM:-0600
TZOFFSETTO:-0700
TZNAME:MST
DTSTART:20251102T080000
END:STANDARD
BEGIN:DAYLIGHT
TZOFFSETFROM:-0700
TZOFFSETTO:-0600
TZNAME:MDT
DTSTART:20260308T090000
END:DAYLIGHT
BEGIN:STANDARD
TZOFFSETFROM:-0600
TZOFFSETTO:-0700
TZNAME:MST
DTSTART:20261101T080000
END:STANDARD
BEGIN:DAYLIGHT
TZOFFSETFROM:-0700
TZOFFSETTO:-0600
TZNAME:MDT
DTSTART:20270314T090000
END:DAYLIGHT
BEGIN:STANDARD
TZOFFSETFROM:-0600
TZOFFSETTO:-0700
TZNAME:MST
DTSTART:20271107T080000
END:STANDARD
END:VTIMEZONE
BEGIN:VEVENT
DTSTART;TZID=America/Denver:20260616T170000
DTEND;TZID=America/Denver:20260616T200000
DTSTAMP:20260420T114009
CREATED:20260413T225911Z
LAST-MODIFIED:20260420T142018Z
UID:38340392-1781629200-1781640000@visitsfbg.org
SUMMARY:The Light Eaters: An Evening With Zoe Schlanger
DESCRIPTION:Join us for The Light Eaters: An Evening with Zoë Schlanger\, part of the Santa Fe Botanical Garden’s Science and Conservation Speaker Series\, held at the New Mexico Museum of Art’s St. Francis Auditorium. Blending cutting-edge science with compelling storytelling\, Schlanger—author of The Light Eaters: How the Unseen World of Plant Intelligence Offers a New Understanding of Life on Earth—explores the emerging field of plant intelligence and what it reveals about how plants sense\, communicate\, and interact with the living world around them. This special evening invites audiences to consider the profound relationships between plants\, pollinators\, and ecosystems\, and how these connections shape the future of conservation. \nGeneral admission tickets include entry to the 6:00pm lecture in the auditorium\, followed by a book signing in partnership with Collected Works Bookstore. \nVIP Experience \nA limited number of VIP tickets are available for an exclusive 5:00pm courtyard reception with the author\, featuring wine and light hors d’oeuvres. \nMember Presale: April 15; Public Sale: April 27\, 2026 \nDate and Time \n\nDate: June 16\, 2026\nTime:\n\n5:00 – 6:00pm: VIP Reception\n6:00 – 7:00pm: Presentation and Discussion\n7:00pm: Author Book Signing\n\n\n\nLocation \nNew Mexico Museum of Art\, St. Francis Auditorium\, 107 W Palace Ave\, Santa Fe\, NM 87501 \nPricing \n\nSFBG Member $25.00\nNot-Yet-Member $35.00\nVIP SFBG Member $75.00\nVIP Not-Yet-Member $100.00\n\n**SFBG Members** You must sign in to take advantage of the presale. If you already have an account\, click the “Sign in” button at the top of this page. If you do not have an account\, click the “Register” button to create an account. If you receive an error or have questions\, email info@santafebotanicalgarden.org. \nNot yet a member? Join/renew here for discounts and benefits all year long! \nRefund and Cancellation Policy \nAll sales are final. We do not offer refunds. If you must cancel\, please consider the program fee a donation to the Garden. \nWe reserve the right to cancel programs at our discretion. Participants will be contacted via email as early as possible in the event of a program cancellation.
URL:https://visitsfbg.org/event/the-light-eaters-an-evening-with-zoe-schlanger/
LOCATION:New Mexico Museum of Art\, 107 W Palace Ave\, Santa Fe\, NM\, 87501
CATEGORIES:Science & Conservation
ATTACH;FMTTYPE=image/jpeg:https://visitsfbg.org/wp-content/uploads/Zoe-Schlanger-header.jpg
END:VEVENT
END:VCALENDAR