BEGIN:VCALENDAR
VERSION:2.0
PRODID:-//Santa Fe Botanical Garden - ECPv6.15.20//NONSGML v1.0//EN
CALSCALE:GREGORIAN
METHOD:PUBLISH
X-ORIGINAL-URL:https://visitsfbg.org
X-WR-CALDESC:Events for Santa Fe Botanical Garden
REFRESH-INTERVAL;VALUE=DURATION:PT1H
X-Robots-Tag:noindex
X-PUBLISHED-TTL:PT1H
BEGIN:VTIMEZONE
TZID:America/Denver
BEGIN:DAYLIGHT
TZOFFSETFROM:-0700
TZOFFSETTO:-0600
TZNAME:MDT
DTSTART:20250309T090000
END:DAYLIGHT
BEGIN:STANDARD
TZOFFSETFROM:-0600
TZOFFSETTO:-0700
TZNAME:MST
DTSTART:20251102T080000
END:STANDARD
BEGIN:DAYLIGHT
TZOFFSETFROM:-0700
TZOFFSETTO:-0600
TZNAME:MDT
DTSTART:20260308T090000
END:DAYLIGHT
BEGIN:STANDARD
TZOFFSETFROM:-0600
TZOFFSETTO:-0700
TZNAME:MST
DTSTART:20261101T080000
END:STANDARD
BEGIN:DAYLIGHT
TZOFFSETFROM:-0700
TZOFFSETTO:-0600
TZNAME:MDT
DTSTART:20270314T090000
END:DAYLIGHT
BEGIN:STANDARD
TZOFFSETFROM:-0600
TZOFFSETTO:-0700
TZNAME:MST
DTSTART:20271107T080000
END:STANDARD
END:VTIMEZONE
BEGIN:VEVENT
DTSTART;TZID=America/Denver:20260501T100000
DTEND;TZID=America/Denver:20260501T110000
DTSTAMP:20260421T084439
CREATED:20260414T003723Z
LAST-MODIFIED:20260414T004239Z
UID:38340411-1777629600-1777633200@visitsfbg.org
SUMMARY:Books & Blooms: What do worms eat?
DESCRIPTION:Advance Registration Recommended \nJoin us the first Friday of each month from April – September for Books & Blooms – a story-time program for children 4 and under with their grown-ups! Listen to a story in the Garden\, then spend time exploring activity stations set up especially for you and your young ones to explore together! \nOur theme for June is: What do worms eat? We will learn about composting using worms and get a chance to look at live worms! First Friday of each month April – September. \nDate and Time:  \n\nFriday\, May 1\, 2026\n10:00 – 11:00am\n\nLocation: \nSanta Fe Botanical Garden\, Learning Ramada\, 715 Camino Lejo\, Santa Fe\, 87505 \nPricing: \n\nChildren: $5\nMember: $4\nNon-member: $5\n\n  \n**SFBG Members** You must sign in to receive your member discount. If you already have an account\, click the “Sign in” button at the top of this page. If you do not have an account\, click the “Register” button to create an account. If you receive an error or have questions\, email info@santafebotanicalgarden.org. \nNot yet a member? Join/renew here for discounts and benefits all year long! \nRefund and Cancellation Policy \nAll sales are final. We do not offer refunds. If you must cancel\, please consider the program fee a donation to the Garden. \nWe reserve the right to cancel programs at our discretion. Participants will be contacted via email as early as possible in the event of a program cancellation.
URL:https://visitsfbg.org/event/books-blooms-what-do-worms-eat/
LOCATION:NM
CATEGORIES:Education,Families
ATTACH;FMTTYPE=image/png:https://visitsfbg.org/wp-content/uploads/Untitled-design-4-1.png
END:VEVENT
END:VCALENDAR