BEGIN:VCALENDAR
VERSION:2.0
PRODID:-//Santa Fe Botanical Garden - ECPv6.15.20//NONSGML v1.0//EN
CALSCALE:GREGORIAN
METHOD:PUBLISH
X-WR-CALNAME:Santa Fe Botanical Garden
X-ORIGINAL-URL:https://visitsfbg.org
X-WR-CALDESC:Events for Santa Fe Botanical Garden
REFRESH-INTERVAL;VALUE=DURATION:PT1H
X-Robots-Tag:noindex
X-PUBLISHED-TTL:PT1H
BEGIN:VTIMEZONE
TZID:America/Denver
BEGIN:DAYLIGHT
TZOFFSETFROM:-0700
TZOFFSETTO:-0600
TZNAME:MDT
DTSTART:20250309T090000
END:DAYLIGHT
BEGIN:STANDARD
TZOFFSETFROM:-0600
TZOFFSETTO:-0700
TZNAME:MST
DTSTART:20251102T080000
END:STANDARD
BEGIN:DAYLIGHT
TZOFFSETFROM:-0700
TZOFFSETTO:-0600
TZNAME:MDT
DTSTART:20260308T090000
END:DAYLIGHT
BEGIN:STANDARD
TZOFFSETFROM:-0600
TZOFFSETTO:-0700
TZNAME:MST
DTSTART:20261101T080000
END:STANDARD
BEGIN:DAYLIGHT
TZOFFSETFROM:-0700
TZOFFSETTO:-0600
TZNAME:MDT
DTSTART:20270314T090000
END:DAYLIGHT
BEGIN:STANDARD
TZOFFSETFROM:-0600
TZOFFSETTO:-0700
TZNAME:MST
DTSTART:20271107T080000
END:STANDARD
END:VTIMEZONE
BEGIN:VEVENT
DTSTART;TZID=America/Denver:20260713T090000
DTEND;TZID=America/Denver:20260717T150000
DTSTAMP:20260421T161323
CREATED:20260219T212938Z
LAST-MODIFIED:20260219T212938Z
UID:38339707-1783933200-1784300400@visitsfbg.org
SUMMARY:Summer Garden Camp
DESCRIPTION:Registration required. \nGrow your experiences! Dig into some fun with our week-long day camps. All camps include a variety of activities that allow campers to discover the world of plants through art\, science\, gardening and outdoor exploration. Connecting children to plants and each other through structured activities and unstructured play. \nCampers will hike the arroyos\, explore the pinon-juniper woodland\, learn animal tracking\, plant ID and much more. \nDate: July 13-17 (Monday-Friday) \nWho: Youth 9-12 years old \nTime: 9:00 AM – 3:00 PM \nLocation: Santa Fe Botanical Garden\, 715 Camino Lejo\, Santa Fe\, 87505 \nCost: $275 (includes all 5 days)
URL:https://visitsfbg.org/event/summer-garden-camp-july-13-17-2026/
LOCATION:Santa Fe Botanical Garden\, 715 Camino Lejo\, Santa Fe\, NM\, 87505\, United States
CATEGORIES:Camp,Education,Youth
END:VEVENT
BEGIN:VEVENT
DTSTART;TZID=America/Denver:20260907T093000
DTEND;TZID=America/Denver:20260907T153000
DTSTAMP:20260421T161323
CREATED:20260407T162308Z
LAST-MODIFIED:20260407T162308Z
UID:38340298-1788773400-1788795000@visitsfbg.org
SUMMARY:Journaling through Watercolor with Antonio Darden
DESCRIPTION:Advance Registration Required \nStep into the Santa Fe landscape with a sketchbook in one hand and a thoughtfully limited watercolor palette in the other. In this beginner-friendly plein air journaling class\, participants will learn to capture manageable Southwest scenes\, from adobe walls and entryways to ristras and garden gates\, while recording color mixes\, light\, and perspective notes that can later blossom into finished studio pieces. Guided by award-winning artist Antonio Darden\, this course weaves color theory\, value study\, and one- and two-point perspective into a creative practice that’s equal parts travel diary and work of art. 🎨🌵 \nThis class will cover\, color theory\, value study and one-point and two-point perspective. This class is for beginners to intermediate\, even if you haven’t painted before you will really enjoy this class. \nAbout the Artist: \nAntonio Darden is a signature member of the American Watercolor Society\, National Watercolor Society\, Western Federation Watercolor Society\, Watercolor Society of Alabama and New Mexico Watercolor Society. Antonio is an avid plein air and Studio painter\, building on the foundations of composition\, value and local color and continuing to experiment and hone his personal style. Daily life drawing and plein air painting and studying from many renowned artists have elevated his technique in watercolor. \nHe works and teaches in his private art studio in Santa Fe NM. Antonio\, a local\, national and international award winning artist\, has his art in private collections in Germany\, London\, Canada\, Italy\, Mexico and throughout the USA. www.dardenfineart.com \nDate and Time: \n\nMonday September 7 to Thursday September 10\n9:30am – 3:30pm (1 hour break for lunch)\n\nLocation: Santa Fe Botanical Garden\, 715 Camino Lejo\, Hendricksen Pavilion\, Santa Fe 87505 \nPricing:  \n\n$400\npricing covers all four days of workshop\n\n  \nRefund policy: Cancelations more than one week prior to event are subject to a 25% cancelation fee. Cancelations with less than one week notice are non-refundable. If you need to cancel please call 505-471-9103 ext 105. \nCancelation Policy: Santa Fe Botanical Garden reserves the right to cancel programs at its discretion. Programs will run as scheduled\, regardless of weather\, unless participants are contacted directly by Garden Staff either by phone or email.
URL:https://visitsfbg.org/event/journaling-through-watercolor-with-antonio-darden/
LOCATION:Santa Fe Botanical Garden\, 715 Camino Lejo\, Santa Fe\, NM\, 87505\, United States
CATEGORIES:Adult Programs,Education,Workshops
ATTACH;FMTTYPE=image/jpeg:https://visitsfbg.org/wp-content/uploads/Venice-Laundry-VI.jpg
END:VEVENT
BEGIN:VEVENT
DTSTART;TZID=America/Denver:20260912T093000
DTEND;TZID=America/Denver:20260912T120000
DTSTAMP:20260421T161323
CREATED:20260219T200353Z
LAST-MODIFIED:20260219T200353Z
UID:38339694-1789205400-1789214400@visitsfbg.org
SUMMARY:General Volunteer Orientation
DESCRIPTION:Interested in volunteering for a great organization that is growing inside and out? Santa Fe Botanical Garden will be holding our volunteer orientation for ages 15 and up. If you have not already done so\, please fill out an application in order to be considered! After you complete this application and have interviewed with our Volunteer Coordinator\, you will be invited to register for the training. \nTo see what opportunities are available to volunteers\, please visit: https://visitsfbg.org/support/volunteer/ \nAll potential volunteers go through an interview process and complete a background check before they can attend our introductory training. Orientation provides all the resources for incoming volunteers to become familiar with the Garden\, such as its history\, mission\, and how to participate in the various volunteer opportunities. \nFor questions\, contact our Volunteer Coordinator\, Gary Sharlow at volunteer@santafebotanicalgarden.org \n(Orientation is required of all accepted applicants before they can schedule volunteer shifts with the Santa Fe Botanical Garden.) \nBy Application: Click Here To Apply \nDate: Saturday\, September 12\, 2026 \nTime: 9:30am – 12:00pm \nLocation: Santa Fe Botanical Garden\, Hendricksen Pavilion\, 715 Camino Lejo\, Santa Fe 87505 \nAge: 15 & Up
URL:https://visitsfbg.org/event/general-volunteer-orientation-september-2026/
LOCATION:Santa Fe Botanical Garden\, 715 Camino Lejo\, Santa Fe\, NM\, 87505\, United States
CATEGORIES:Education
ATTACH;FMTTYPE=image/jpeg:https://visitsfbg.org/wp-content/uploads/Ivars-teaching1-scaled.jpg
END:VEVENT
BEGIN:VEVENT
DTSTART;TZID=America/Denver:20260913T080000
DTEND;TZID=America/Denver:20260913T170000
DTSTAMP:20260421T161324
CREATED:20260226T224353Z
LAST-MODIFIED:20260409T204207Z
UID:38339768-1789286400-1789318800@visitsfbg.org
SUMMARY:Community Day
DESCRIPTION:A Garden for Everyone: Community Day at the Santa Fe Botanical Garden \nDiscover the beauty and tranquility of the Santa Fe Botanical Garden during June’s Community Day\, where New Mexico residents and students with ID receive free admission to explore and enjoy all the Garden has to offer. \nCome and enjoy the Garden—where there’s something for everyone\, every season of the year!
URL:https://visitsfbg.org/event/community-day-september-2026/
LOCATION:Santa Fe Botanical Garden\, 715 Camino Lejo\, Santa Fe\, NM\, 87505\, United States
CATEGORIES:Community Day,Education
END:VEVENT
BEGIN:VEVENT
DTSTART;TZID=America/Denver:20261121T093000
DTEND;TZID=America/Denver:20261121T120000
DTSTAMP:20260421T161324
CREATED:20260219T200511Z
LAST-MODIFIED:20260219T200511Z
UID:38339696-1795253400-1795262400@visitsfbg.org
SUMMARY:General Volunteer Orientation
DESCRIPTION:Interested in volunteering for a great organization that is growing inside and out? Santa Fe Botanical Garden will be holding our volunteer orientation for ages 15 and up. If you have not already done so\, please fill out an application in order to be considered! After you complete this application and have interviewed with our Volunteer Coordinator\, you will be invited to register for the training. \nTo see what opportunities are available to volunteers\, please visit: https://visitsfbg.org/support/volunteer/ \nAll potential volunteers go through an interview process and complete a background check before they can attend our introductory training. Orientation provides all the resources for incoming volunteers to become familiar with the Garden\, such as its history\, mission\, and how to participate in the various volunteer opportunities. \nFor questions\, contact our Volunteer Coordinator\, Gary Sharlow at volunteer@santafebotanicalgarden.org \n(Orientation is required of all accepted applicants before they can schedule volunteer shifts with the Santa Fe Botanical Garden.) \nBy Application: Click Here To Apply \nDate: Saturday\, November 21\, 2026 \nTime: 9:30am – 12:00pm \nLocation: Santa Fe Botanical Garden\, Hendricksen Pavilion\, 715 Camino Lejo\, Santa Fe 87505 \nAge: 15 & Up
URL:https://visitsfbg.org/event/general-volunteer-orientation-november-21/
LOCATION:Santa Fe Botanical Garden\, 715 Camino Lejo\, Santa Fe\, NM\, 87505\, United States
CATEGORIES:Education
ATTACH;FMTTYPE=image/jpeg:https://visitsfbg.org/wp-content/uploads/Ivars-teaching1-scaled.jpg
END:VEVENT
END:VCALENDAR