BEGIN:VCALENDAR
VERSION:2.0
PRODID:-//Santa Fe Botanical Garden - ECPv6.15.20//NONSGML v1.0//EN
CALSCALE:GREGORIAN
METHOD:PUBLISH
X-WR-CALNAME:Santa Fe Botanical Garden
X-ORIGINAL-URL:https://visitsfbg.org
X-WR-CALDESC:Events for Santa Fe Botanical Garden
REFRESH-INTERVAL;VALUE=DURATION:PT1H
X-Robots-Tag:noindex
X-PUBLISHED-TTL:PT1H
BEGIN:VTIMEZONE
TZID:America/Denver
BEGIN:DAYLIGHT
TZOFFSETFROM:-0700
TZOFFSETTO:-0600
TZNAME:MDT
DTSTART:20250309T090000
END:DAYLIGHT
BEGIN:STANDARD
TZOFFSETFROM:-0600
TZOFFSETTO:-0700
TZNAME:MST
DTSTART:20251102T080000
END:STANDARD
BEGIN:DAYLIGHT
TZOFFSETFROM:-0700
TZOFFSETTO:-0600
TZNAME:MDT
DTSTART:20260308T090000
END:DAYLIGHT
BEGIN:STANDARD
TZOFFSETFROM:-0600
TZOFFSETTO:-0700
TZNAME:MST
DTSTART:20261101T080000
END:STANDARD
BEGIN:DAYLIGHT
TZOFFSETFROM:-0700
TZOFFSETTO:-0600
TZNAME:MDT
DTSTART:20270314T090000
END:DAYLIGHT
BEGIN:STANDARD
TZOFFSETFROM:-0600
TZOFFSETTO:-0700
TZNAME:MST
DTSTART:20271107T080000
END:STANDARD
END:VTIMEZONE
BEGIN:VEVENT
DTSTART;TZID=America/Denver:20260420T110000
DTEND;TZID=America/Denver:20260420T120000
DTSTAMP:20260420T025538
CREATED:20260206T185134Z
LAST-MODIFIED:20260206T185134Z
UID:38339549-1776682800-1776686400@visitsfbg.org
SUMMARY:Patterns in the Garden Tour
DESCRIPTION:Please wait in Welcome Ramada prior to the beginning of the tour.  \nJoin Docent Tour Leader\, Ivars Peterson for a walk through the Garden as Ivars incorporates Mathematics to illuminate and enrich our understanding of the many patterns found in a botanical garden. \nAbout your Guide: Ivars Peterson has been a Volunteer Docent at the Santa Fe Botanical Garden for 3 years. Ivars is a freelance writer and editor. He was Director of Publications at the Mathematical Association of America from 2007 to 2014. As an award-winning mathematics writer\, he previously worked at Science News for more than 25 years and served as editor of Science News Online and Science News for Kids. His books include The Mathematical Tourist\, Islands of Truth\, Newton’s Clock\, and Fragments of Infinity: A Kaleidoscope of Math and Art. \nLocation- Santa Fe Botanical Garden\, 715 Camino Lejo Santa Fe\, 87505 \nCost: Free with Paid Admission\, no registration required
URL:https://visitsfbg.org/event/patterns-in-the-garden-tour-april-20-2026/
LOCATION:Santa Fe Botanical Garden\, 715 Camino Lejo\, Santa Fe\, NM\, 87505\, United States
CATEGORIES:Education
ATTACH;FMTTYPE=image/jpeg:https://visitsfbg.org/wp-content/uploads/agave-spiral-600x465-1.jpg
END:VEVENT
BEGIN:VEVENT
DTSTART;VALUE=DATE:20260424
DTEND;VALUE=DATE:20260428
DTSTAMP:20260420T025538
CREATED:20260111T221317Z
LAST-MODIFIED:20260112T012141Z
UID:38337551-1776988800-1777334399@visitsfbg.org
SUMMARY:City Nature Challenge 2026
DESCRIPTION:Date: April 24-27\, 2026 \nCity Nature Challenge 2026: Santa Fe Area project – check back for upcoming events\, resources\, and more! \nJoin your local community in showcasing the amazing biodiversity of Northern New Mexico in the 2026 City Nature Challenge! \nThe City Nature Challenge is an international effort for people to find and document plants and wildlife in cities across the globe. It’s a bioblitz-style competition where cities are in a friendly contest with each other to see who can make the most observations of nature\, who can find the most species\, and who can engage the most people. \nThis is the Santa Fe Area’s third year of participating! Click the following event years to see how we did : 2024 | 2025 \nInterested in learning more? Message @mjwcarr for details. \n \nThanks to our partners who are helping organize and lead City Nature Challenge events:
URL:https://visitsfbg.org/event/city-nature-challenge-2026/
LOCATION:NM
CATEGORIES:Community Events,Education,Families
ATTACH;FMTTYPE=image/jpeg:https://visitsfbg.org/wp-content/uploads/CNC-2025-1_1-Santa-Fe-Area-e1742678057460.jpg
END:VEVENT
BEGIN:VEVENT
DTSTART;TZID=America/Denver:20260424T110000
DTEND;TZID=America/Denver:20260424T120000
DTSTAMP:20260420T025538
CREATED:20260204T174302Z
LAST-MODIFIED:20260410T203647Z
UID:38339519-1777028400-1777032000@visitsfbg.org
SUMMARY:Public Garden Tour
DESCRIPTION:Explore the Beauty of the Santa Fe Botanical Garden on a Guided Tour! \nStep into nature and discover the wonders of the Santa Fe Botanical Garden with our engaging Public Garden Tours! Perfect for all ages\, these guided walks offer a fascinating introduction to the diverse plants\, landscapes\, and stories that make our Garden so special. \nEach tour lasts 45–55 minutes\, covering scenic pathways while highlighting seasonal themes and insights from our expert guides. No two tours are exactly alike—our guides bring their unique perspectives\, drawing from our mission to celebrate\, cultivate\, and conserve the rich botanical heritage and biodiversity of our region. \n🌿 No registration required—just show up and enjoy!\n🌿 Tours are included with Garden admission. \nCost: Free with admission \nDay and Time: March – May at 11AM on Friday and Saturday \nWant to bring a group? We’re happy to accommodate private tours for groups of 10 or more with at least two weeks’ notice. Plus\, be sure to check back for seasonal specialty tours featuring unique topics and experiences throughout the year. \nFor details and to plan your visit\, click here. We can’t wait to welcome you! \nBecome a SFBG Member today and enjoy free admission all year long. Join/Renew here!
URL:https://visitsfbg.org/event/public-garden-tour-april-24-2026/
LOCATION:Santa Fe Botanical Garden\, 715 Camino Lejo\, Santa Fe\, NM\, 87505\, United States
CATEGORIES:Education,Garden Tours
ATTACH;FMTTYPE=image/png:https://visitsfbg.org/wp-content/uploads/Garden-Tours-1.png
END:VEVENT
BEGIN:VEVENT
DTSTART;TZID=America/Denver:20260425T110000
DTEND;TZID=America/Denver:20260425T120000
DTSTAMP:20260420T025538
CREATED:20260204T174338Z
LAST-MODIFIED:20260410T203731Z
UID:38339521-1777114800-1777118400@visitsfbg.org
SUMMARY:Public Garden Tour
DESCRIPTION:Explore the Beauty of the Santa Fe Botanical Garden on a Guided Tour! \nStep into nature and discover the wonders of the Santa Fe Botanical Garden with our engaging Public Garden Tours! Perfect for all ages\, these guided walks offer a fascinating introduction to the diverse plants\, landscapes\, and stories that make our Garden so special. \nEach tour lasts 45–55 minutes\, covering scenic pathways while highlighting seasonal themes and insights from our expert guides. No two tours are exactly alike—our guides bring their unique perspectives\, drawing from our mission to celebrate\, cultivate\, and conserve the rich botanical heritage and biodiversity of our region. \n🌿 No registration required—just show up and enjoy!\n🌿 Tours are included with Garden admission. \nCost: Free with admission \nDay and Time: March – May at 11AM on Friday and Saturday \nWant to bring a group? We’re happy to accommodate private tours for groups of 10 or more with at least two weeks’ notice. Plus\, be sure to check back for seasonal specialty tours featuring unique topics and experiences throughout the year. \nFor details and to plan your visit\, click here. We can’t wait to welcome you! \nBecome a SFBG Member today and enjoy free admission all year long. Join/Renew here!
URL:https://visitsfbg.org/event/public-garden-tour-april-25-2026/
LOCATION:Santa Fe Botanical Garden\, 715 Camino Lejo\, Santa Fe\, NM\, 87505\, United States
CATEGORIES:Education,Garden Tours
ATTACH;FMTTYPE=image/png:https://visitsfbg.org/wp-content/uploads/Garden-Tours-1.png
END:VEVENT
BEGIN:VEVENT
DTSTART;TZID=America/Denver:20260426T110000
DTEND;TZID=America/Denver:20260426T120000
DTSTAMP:20260420T025538
CREATED:20260407T183934Z
LAST-MODIFIED:20260410T203815Z
UID:38340307-1777201200-1777204800@visitsfbg.org
SUMMARY:Public Garden Tour
DESCRIPTION:Explore the Beauty of the Santa Fe Botanical Garden on a Guided Tour! \nStep into nature and discover the wonders of the Santa Fe Botanical Garden with our engaging Public Garden Tours! Perfect for all ages\, these guided walks offer a fascinating introduction to the diverse plants\, landscapes\, and stories that make our Garden so special. \nEach tour lasts 45–55 minutes\, covering scenic pathways while highlighting seasonal themes and insights from our expert guides. No two tours are exactly alike—our guides bring their unique perspectives\, drawing from our mission to celebrate\, cultivate\, and conserve the rich botanical heritage and biodiversity of our region. \n🌿 No registration required—just show up and enjoy!\n🌿 Tours are included with Garden admission. \nCost: Free with admission \nDay and Time: March – May at 11AM on Friday and Saturday \nWant to bring a group? We’re happy to accommodate private tours for groups of 10 or more with at least two weeks’ notice. Plus\, be sure to check back for seasonal specialty tours featuring unique topics and experiences throughout the year. \nFor details and to plan your visit\, click here. We can’t wait to welcome you! \nBecome a SFBG Member today and enjoy free admission all year long. Join/Renew here!
URL:https://visitsfbg.org/event/public-garden-tour-april-26-26/
LOCATION:Santa Fe Botanical Garden\, 715 Camino Lejo\, Santa Fe\, NM\, 87505\, United States
CATEGORIES:Education,Garden Tours
ATTACH;FMTTYPE=image/png:https://visitsfbg.org/wp-content/uploads/Garden-Tours-1.png
END:VEVENT
BEGIN:VEVENT
DTSTART;TZID=America/Denver:20260426T150000
DTEND;TZID=America/Denver:20260426T170000
DTSTAMP:20260420T025538
CREATED:20260320T225651Z
LAST-MODIFIED:20260402T233237Z
UID:38340125-1777215600-1777222800@visitsfbg.org
SUMMARY:Horno Cooking Workshop
DESCRIPTION:Advance registration required \nJoin Eye of the Horno for a hands-on workshop where you\, the participant\, learns practical skills for cooking in earthen ovens. This class will focus on: \n\nFire building and temperature control\nCooking techniques\nMaintenance and safety\n\nWhat We Will Cook \n\nPizza\nCustomized alternatives provided upon request to accommodate dietary restrictions. Some examples below:\n\nGluten free dough\nVegan pizza or bread\n\n\n\nWe will finish class with a group meal! \nParticipants will receive hands-on oven experience and basic instruction booklet. \nDate and Time: \n\nSunday\, April 26\, 2026\n3:00 – 5:00pm\n\nLocation:  \nSanta Fe Botanical Garden\, Horno Plaza\, 715 Camino Lejo\, Santa Fe\, 87505 \nPricing: \n\nAdult: $40\n\nAbout Eye of the Horno: \nDedicated to sharing their passion for earth-building and wood-fired cooking through Horno building services and community workshops. Serving Northern New Mexico\, Española\, Los Alamos\, Santa Fe and Albuquerque area as well as Southern Colorado. \n  \n**SFBG Members** You must sign in to receive your member discount. If you already have an account\, click the “Sign in” button at the top of this page. If you do not have an account\, click the “Register” button to create an account. If you receive an error or have questions\, email info@santafebotanicalgarden.org. \nNot yet a member? Join/renew here for discounts and benefits all year long! \nRefund and Cancellation Policy \nAll sales are final. We do not offer refunds. If you must cancel\, please consider the program fee a donation to the Garden. \nWe reserve the right to cancel programs at our discretion. Participants will be contacted via email as early as possible in the event of a program cancellation.
URL:https://visitsfbg.org/event/horno-cooking-workshop-april-2026/
LOCATION:Santa Fe Botanical Garden\, 715 Camino Lejo\, Santa Fe\, NM\, 87505\, United States
CATEGORIES:Education,Workshops
ATTACH;FMTTYPE=image/png:https://visitsfbg.org/wp-content/uploads/Untitled-design-2-2.png
END:VEVENT
END:VCALENDAR