BEGIN:VCALENDAR
VERSION:2.0
PRODID:-//Santa Fe Botanical Garden - ECPv6.15.20//NONSGML v1.0//EN
CALSCALE:GREGORIAN
METHOD:PUBLISH
X-ORIGINAL-URL:https://visitsfbg.org
X-WR-CALDESC:Events for Santa Fe Botanical Garden
REFRESH-INTERVAL;VALUE=DURATION:PT1H
X-Robots-Tag:noindex
X-PUBLISHED-TTL:PT1H
BEGIN:VTIMEZONE
TZID:America/Denver
BEGIN:DAYLIGHT
TZOFFSETFROM:-0700
TZOFFSETTO:-0600
TZNAME:MDT
DTSTART:20250309T090000
END:DAYLIGHT
BEGIN:STANDARD
TZOFFSETFROM:-0600
TZOFFSETTO:-0700
TZNAME:MST
DTSTART:20251102T080000
END:STANDARD
BEGIN:DAYLIGHT
TZOFFSETFROM:-0700
TZOFFSETTO:-0600
TZNAME:MDT
DTSTART:20260308T090000
END:DAYLIGHT
BEGIN:STANDARD
TZOFFSETFROM:-0600
TZOFFSETTO:-0700
TZNAME:MST
DTSTART:20261101T080000
END:STANDARD
BEGIN:DAYLIGHT
TZOFFSETFROM:-0700
TZOFFSETTO:-0600
TZNAME:MDT
DTSTART:20270314T090000
END:DAYLIGHT
BEGIN:STANDARD
TZOFFSETFROM:-0600
TZOFFSETTO:-0700
TZNAME:MST
DTSTART:20271107T080000
END:STANDARD
END:VTIMEZONE
BEGIN:VEVENT
DTSTART;TZID=America/Denver:20260319T100000
DTEND;TZID=America/Denver:20260319T113000
DTSTAMP:20260420T092004
CREATED:20260207T195158Z
LAST-MODIFIED:20260219T184825Z
UID:38339552-1773914400-1773919800@visitsfbg.org
SUMMARY:An Approach To Garden Design with James David
DESCRIPTION:Advance Registration Recommended \nJoin designer James David as he reflects on a 50-year journey of cultivating design taste and personal style. Drawing from decades of living and working in three distinct regions\, he explores how plants\, building materials\, climate\, and cultural history have shaped his work\, with a continual focus on the thoughtful fusion of traditional and modern design. \nAbout the Presenter:  \nJames David graduated in 1969 form LSU in Landscape architecture. He worked for 4 years as head landscape architect for the Texas Parks Department. He is the founder of a retail nursery and construction company (GARDENS) and Landscape Architectural firm and has done so for 30 years in Austin\, Texas. He is a Board Member of the Garden Conservancy and he chaired the Open Days Program for 6 years. Since 2006 he has been working as a Landscape Architect on projects in Mexico\, California\, Westchester County\, New York\, Texas\, London\, England and New Mexico. \nDate: Thursday\, March 19th \nTime: 10:00am – 11:30am \nLocation: Udall Conference Room\, 725 Camino Lejo Santa Fe\, NM (Second floor) \nCost: \n\nMember $12\nNot-Yet-Member $15\n\n**SFBG Members** You must sign in to receive your member discount. If you already have an account\, click the “Sign in” button at top of this page. \nIf you do not have an account\, click the “Register” button to create an account. Discount reflected at checkout. If you receive an error or have questions\, email info@santafebotanicalgarden.org. \nRefund policy: We do not offer refunds for this program. If you must cancel\, please consider the program fee a donation. \nCancellation Policy: Santa Fe Botanical Garden reserves the right to cancel programs at its discretion. Programs will run as scheduled\, regardless of weather\, unless participants are contacted directly by Garden Staff either by phone or email. \nNot yet a member? Join/renew now for discounts and benefits all year long!
URL:https://visitsfbg.org/event/an-approach-to-garden-design-with-james-david-2026/
LOCATION:Udall Building\, 725 Camino Lejo\, Santa Fe\, NM\, 87505\, United States
CATEGORIES:Adult Programs,Education
ATTACH;FMTTYPE=image/jpeg:https://visitsfbg.org/wp-content/uploads/IMG_9112.jpg
END:VEVENT
END:VCALENDAR