BEGIN:VCALENDAR
VERSION:2.0
PRODID:-//Santa Fe Botanical Garden - ECPv6.15.20//NONSGML v1.0//EN
CALSCALE:GREGORIAN
METHOD:PUBLISH
X-ORIGINAL-URL:https://visitsfbg.org
X-WR-CALDESC:Events for Santa Fe Botanical Garden
REFRESH-INTERVAL;VALUE=DURATION:PT1H
X-Robots-Tag:noindex
X-PUBLISHED-TTL:PT1H
BEGIN:VTIMEZONE
TZID:America/Denver
BEGIN:DAYLIGHT
TZOFFSETFROM:-0700
TZOFFSETTO:-0600
TZNAME:MDT
DTSTART:20250309T090000
END:DAYLIGHT
BEGIN:STANDARD
TZOFFSETFROM:-0600
TZOFFSETTO:-0700
TZNAME:MST
DTSTART:20251102T080000
END:STANDARD
BEGIN:DAYLIGHT
TZOFFSETFROM:-0700
TZOFFSETTO:-0600
TZNAME:MDT
DTSTART:20260308T090000
END:DAYLIGHT
BEGIN:STANDARD
TZOFFSETFROM:-0600
TZOFFSETTO:-0700
TZNAME:MST
DTSTART:20261101T080000
END:STANDARD
BEGIN:DAYLIGHT
TZOFFSETFROM:-0700
TZOFFSETTO:-0600
TZNAME:MDT
DTSTART:20270314T090000
END:DAYLIGHT
BEGIN:STANDARD
TZOFFSETFROM:-0600
TZOFFSETTO:-0700
TZNAME:MST
DTSTART:20271107T080000
END:STANDARD
END:VTIMEZONE
BEGIN:VEVENT
DTSTART;TZID=America/Denver:20260222T110000
DTEND;TZID=America/Denver:20260222T123000
DTSTAMP:20260420T124409
CREATED:20260115T200200Z
LAST-MODIFIED:20260125T204715Z
UID:38339383-1771758000-1771763400@visitsfbg.org
SUMMARY:Rooted Reflections: A Mindful Nature Journaling Experience
DESCRIPTION:Advance registration recommended \nJoin us for a mindful nature journaling workshop in the beautiful Santa Fe Botanical Garden!  During this 90 minute program\, we will explore the practice of journaling. We will introduce some techniques\, ideas\, and examples of nature journaling then give you a chance to dive into the experience yourself.  Whether you focus on a single leaf\, the landscape and sky or even just the sounds you hear around you\, journaling and sketching is a chance to explore your creativity and connect with your surroundings. Come give it a try with us and bring your creative curiosity! \nEach participant will receive their own watercolor sketchbook to take home. (Watercolor pencils and water brushes will be provided.) \nDate: Sunday February 22nd \nTime: 11:00am – 12:30pm \nLocation: Santa Fe Botanical Garden 715 Camino Lejo Santa Fe 87505\, Hendricksen Pavilion \nCost: \n\nMembers: $20\nNot-yet-members: $25\n\n  \n**SFBG Members** You must sign in to receive your member discount. If you already have an account\, click the “Sign in” button at top of this page. \nIf you do not have an account\, click the “Register” button to create an account. Discount reflected at checkout. If you receive an error or have questions\, email info@santafebotanicalgarden.org. \nRefund policy: We do not offer refunds for this program. If you must cancel\, please consider the program fee a donation. \nCancellation Policy: Santa Fe Botanical Garden reserves the right to cancel programs at its discretion. Programs will run as scheduled\, regardless of weather\, unless participants are contacted directly by Garden Staff either by phone or email. \nNot yet a member? Join/renew now for discounts and benefits all year long! \n 
URL:https://visitsfbg.org/event/rooted-reflections-a-mindful-nature-journaling-experience-february-2026/
LOCATION:Santa Fe Botanical Garden\, 715 Camino Lejo\, Santa Fe\, NM\, 87505\, United States
CATEGORIES:Education
ATTACH;FMTTYPE=image/png:https://visitsfbg.org/wp-content/uploads/image-1.png
END:VEVENT
END:VCALENDAR