BEGIN:VCALENDAR
VERSION:2.0
PRODID:-//Santa Fe Botanical Garden - ECPv6.15.20//NONSGML v1.0//EN
CALSCALE:GREGORIAN
METHOD:PUBLISH
X-ORIGINAL-URL:https://visitsfbg.org
X-WR-CALDESC:Events for Santa Fe Botanical Garden
REFRESH-INTERVAL;VALUE=DURATION:PT1H
X-Robots-Tag:noindex
X-PUBLISHED-TTL:PT1H
BEGIN:VTIMEZONE
TZID:America/Denver
BEGIN:DAYLIGHT
TZOFFSETFROM:-0700
TZOFFSETTO:-0600
TZNAME:MDT
DTSTART:20250309T090000
END:DAYLIGHT
BEGIN:STANDARD
TZOFFSETFROM:-0600
TZOFFSETTO:-0700
TZNAME:MST
DTSTART:20251102T080000
END:STANDARD
BEGIN:DAYLIGHT
TZOFFSETFROM:-0700
TZOFFSETTO:-0600
TZNAME:MDT
DTSTART:20260308T090000
END:DAYLIGHT
BEGIN:STANDARD
TZOFFSETFROM:-0600
TZOFFSETTO:-0700
TZNAME:MST
DTSTART:20261101T080000
END:STANDARD
BEGIN:DAYLIGHT
TZOFFSETFROM:-0700
TZOFFSETTO:-0600
TZNAME:MDT
DTSTART:20270314T090000
END:DAYLIGHT
BEGIN:STANDARD
TZOFFSETFROM:-0600
TZOFFSETTO:-0700
TZNAME:MST
DTSTART:20271107T080000
END:STANDARD
END:VTIMEZONE
BEGIN:VEVENT
DTSTART;TZID=America/Denver:20260131T083000
DTEND;TZID=America/Denver:20260131T100000
DTSTAMP:20260420T122155
CREATED:20251216T222431Z
LAST-MODIFIED:20260130T205629Z
UID:38339211-1769848200-1769853600@visitsfbg.org
SUMMARY:Rescheduled: Winter Bird Walk
DESCRIPTION:Advance registration required. \nDate: Saturday January 24th 31st (rescheduled from January 24th) \nTime: 8:30am – 10:00am \nLocation: Program participants will be met at the entrance gate to the Garden\, just outside of the visitor center. \nCost: Adults – $12\, Members – $10 \nJoin us for a morning bird walk to observe who is visiting the Garden. We’ll be watching for resident birds as well as migratory birds resting in the Garden. No need to be a birding expert\, we’ll even provide binoculars if you need them. \n**SFBG Members** You must sign in to receive your member discount. If you already have an account\, click the “Sign in” button at top of this page. \nIf you do not have an account\, click the “Register” button to create an account. Discount reflected at checkout. If you receive an error or have questions\, email info@santafebotanicalgarden.org. \nRefund policy: We do not offer refunds for this program. If you must cancel\, please consider the program fee a donation. \nCancellation Policy: Santa Fe Botanical Garden reserves the right to cancel programs at its discretion. Programs will run as scheduled\, regardless of weather\, unless participants are contacted directly by Garden Staff either by phone or email. \nNot yet a member? Join/renew now for discounts and benefits all year long!
URL:https://visitsfbg.org/event/winter-bird-walk-january-2026/
LOCATION:Santa Fe Botanical Garden\, 715 Camino Lejo\, Santa Fe\, NM\, 87505\, United States
CATEGORIES:Adult Programs,Education
ATTACH;FMTTYPE=image/jpeg:https://visitsfbg.org/wp-content/uploads/american-robin-in-the-snow-1.jpg
END:VEVENT
END:VCALENDAR