BEGIN:VCALENDAR
VERSION:2.0
PRODID:-//Santa Fe Botanical Garden - ECPv6.15.20//NONSGML v1.0//EN
CALSCALE:GREGORIAN
METHOD:PUBLISH
X-WR-CALNAME:Santa Fe Botanical Garden
X-ORIGINAL-URL:https://visitsfbg.org
X-WR-CALDESC:Events for Santa Fe Botanical Garden
REFRESH-INTERVAL;VALUE=DURATION:PT1H
X-Robots-Tag:noindex
X-PUBLISHED-TTL:PT1H
BEGIN:VTIMEZONE
TZID:America/Denver
BEGIN:DAYLIGHT
TZOFFSETFROM:-0700
TZOFFSETTO:-0600
TZNAME:MDT
DTSTART:20250309T090000
END:DAYLIGHT
BEGIN:STANDARD
TZOFFSETFROM:-0600
TZOFFSETTO:-0700
TZNAME:MST
DTSTART:20251102T080000
END:STANDARD
BEGIN:DAYLIGHT
TZOFFSETFROM:-0700
TZOFFSETTO:-0600
TZNAME:MDT
DTSTART:20260308T090000
END:DAYLIGHT
BEGIN:STANDARD
TZOFFSETFROM:-0600
TZOFFSETTO:-0700
TZNAME:MST
DTSTART:20261101T080000
END:STANDARD
BEGIN:DAYLIGHT
TZOFFSETFROM:-0700
TZOFFSETTO:-0600
TZNAME:MDT
DTSTART:20270314T090000
END:DAYLIGHT
BEGIN:STANDARD
TZOFFSETFROM:-0600
TZOFFSETTO:-0700
TZNAME:MST
DTSTART:20271107T080000
END:STANDARD
END:VTIMEZONE
BEGIN:VEVENT
DTSTART;TZID=America/Denver:20260521T173000
DTEND;TZID=America/Denver:20260521T193000
DTSTAMP:20260421T185757
CREATED:20260314T184208Z
LAST-MODIFIED:20260314T204815Z
UID:38339841-1779384600-1779391800@visitsfbg.org
SUMMARY:Native Elements: Live + Silent Auction & Distinguished Achievement Award Ceremony
DESCRIPTION:The Opening Celebration for the Inaugural Native Elements Art Festival + Market will be held at the Santa Fe Botanical Garden. The evening will include a Live + Silent Auction and Distinguished Achievement Award Ceremony for this year’s winner Della Warrior (Otoe-Missouria Tribe). Food and drinks will be offered as well as live entertainment. \nTo learn more\, visit us at native-elements.org \nMember Pre-Sale Date (March 15)\, Public Sale Date (April 1) \nDate and Time: \n\nThursday\, May 21\n5:30 – 7:30pm \n\nLocation: \nSanta Fe Botanical Garden\, 715 Camino Lejo\, Santa Fe\, NM 87505 \nPricing: \n\nMembers: $80.00\nNot-Yet-Members: $100.00\nYouth Under-17 – Free\n\n**SFBG Members** You must sign in to take advantage of the presale. If you already have an account\, click the “Sign in” button at the top of this page. If you do not have an account\, click the “Register” button to create an account. If you receive an error or have questions\, email info@santafebotanicalgarden.org. \nNot yet a member? Join/renew here for discounts and benefits all year long! \nRefund and Cancellation Policy \nAll sales are final. We do not offer refunds. If you must cancel\, please consider the program fee a donation to the Garden. \nWe reserve the right to cancel programs at our discretion. Participants will be contacted via email as early as possible in the event of a program cancellation.
URL:https://visitsfbg.org/event/native-elements-live-silent-auction-distinguished-achievement-award-ceremony/
LOCATION:Santa Fe Botanical Garden\, 715 Camino Lejo\, Santa Fe\, NM\, 87505\, United States
CATEGORIES:Community Events
ATTACH;FMTTYPE=image/png:https://visitsfbg.org/wp-content/uploads/4-1.png
END:VEVENT
END:VCALENDAR