BEGIN:VCALENDAR
VERSION:2.0
PRODID:-//Santa Fe Botanical Garden - ECPv6.15.20//NONSGML v1.0//EN
CALSCALE:GREGORIAN
METHOD:PUBLISH
X-ORIGINAL-URL:https://visitsfbg.org
X-WR-CALDESC:Events for Santa Fe Botanical Garden
REFRESH-INTERVAL;VALUE=DURATION:PT1H
X-Robots-Tag:noindex
X-PUBLISHED-TTL:PT1H
BEGIN:VTIMEZONE
TZID:America/Denver
BEGIN:DAYLIGHT
TZOFFSETFROM:-0700
TZOFFSETTO:-0600
TZNAME:MDT
DTSTART:20250309T090000
END:DAYLIGHT
BEGIN:STANDARD
TZOFFSETFROM:-0600
TZOFFSETTO:-0700
TZNAME:MST
DTSTART:20251102T080000
END:STANDARD
BEGIN:DAYLIGHT
TZOFFSETFROM:-0700
TZOFFSETTO:-0600
TZNAME:MDT
DTSTART:20260308T090000
END:DAYLIGHT
BEGIN:STANDARD
TZOFFSETFROM:-0600
TZOFFSETTO:-0700
TZNAME:MST
DTSTART:20261101T080000
END:STANDARD
BEGIN:DAYLIGHT
TZOFFSETFROM:-0700
TZOFFSETTO:-0600
TZNAME:MDT
DTSTART:20270314T090000
END:DAYLIGHT
BEGIN:STANDARD
TZOFFSETFROM:-0600
TZOFFSETTO:-0700
TZNAME:MST
DTSTART:20271107T080000
END:STANDARD
END:VTIMEZONE
BEGIN:VEVENT
DTSTART;TZID=America/Denver:20260207T083000
DTEND;TZID=America/Denver:20260207T103000
DTSTAMP:20260421T230344
CREATED:20260105T233938Z
LAST-MODIFIED:20260130T205731Z
UID:38339312-1770453000-1770460200@visitsfbg.org
SUMMARY:February is for the Birds
DESCRIPTION:Registration recommended \nJoin us in the Garden to celebrate National Bird Feeding Month! \nWe will start with a 60 minute bird walk\, looking for our feathery neighbors as well as migrating birds passing through. \nAfter the walk\, we’ll gather to celebrate National Bird Feeding Month by making your own heart shaped suet snack to take home for your neighborhood birds. \nDownload your favorite Bird Tracking app to your phone before the program. (Example: Merlin\, iNaturalist\, eBird\, Audubon) \nDate: Saturday \nTime: 8:30am – 10:30am \nLocation:  Santa Fe Botanical Garden\, 715 Camino Lejo\, Santa Fe 87505 Program participants will be met at the entrance gate to the Garden\, just outside of the visitor center. \nCost: \n\nMembers: $10\nNot-Yet-Members: $12\nYouth: $7\n\n**SFBG Members** You must sign in to receive your member discount. If you already have an account\, click the “Sign in” button at top of this page. \nIf you do not have an account\, click the “Register” button to create an account. Discount reflected at checkout. If you receive an error or have questions\, email info@santafebotanicalgarden.org. \nRefund policy: We do not offer refunds for this program. If you must cancel\, please consider the program fee a donation. \nCancellation Policy: Santa Fe Botanical Garden reserves the right to cancel programs at its discretion. Programs will run as scheduled\, regardless of weather\, unless participants are contacted directly by Garden Staff either by phone or email. \nNot yet a member? Join/renew now for discounts and benefits all year long!
URL:https://visitsfbg.org/event/february-is-for-the-birds-2026/
LOCATION:Santa Fe Botanical Garden\, 715 Camino Lejo\, Santa Fe\, NM\, 87505\, United States
CATEGORIES:Education,Families
ATTACH;FMTTYPE=image/jpeg:https://visitsfbg.org/wp-content/uploads/dark-eyed-junco.jpg
END:VEVENT
BEGIN:VEVENT
DTSTART;TZID=America/Denver:20260207T130000
DTEND;TZID=America/Denver:20260207T143000
DTSTAMP:20260421T230344
CREATED:20260106T002541Z
LAST-MODIFIED:20260204T195116Z
UID:38339320-1770469200-1770474600@visitsfbg.org
SUMMARY:SOLD OUT - Pruning Basics Workshop
DESCRIPTION:Advance registration required. \nLinda Churchill and Noah Gapsis\, SFBG Horticulture Staff\, discuss why\, how\, and when to prune woody plants in a no-fear environment. This program is for anyone who is new to pruning\, or who wants to boost their understanding of the art and their confidence with the actual work.\nThe workshop provides a friendly\, stress-free opportunity for easy indoor practice making cuts\, along with discussion about tools and resources. Given time and good weather we will play outside at the end of the session. Lots of time for Q & A will be allowed. \nDate: Saturday February 7th \nTime: 1:00pm – 2:30pm \nLocation: Santa Fe Botanical Garden\, Hendricksen Pavilion\, 715 Camino Lejo\, Santa Fe 87505 \nCost:  \n\nMembers: $28\nNot-Yet-Members: $35\n\n  \n**SFBG Members** You must sign in to receive your member discount. If you already have an account\, click the “Sign in” button at top of this page. \nIf you do not have an account\, click the “Register” button to create an account. Discount reflected at checkout. If you receive an error or have questions\, email info@santafebotanicalgarden.org. \nRefund policy: We do not offer refunds for this program. If you must cancel\, please consider the program fee a donation. \nCancellation Policy: Santa Fe Botanical Garden reserves the right to cancel programs at its discretion. Programs will run as scheduled\, regardless of weather\, unless participants are contacted directly by Garden Staff either by phone or email. \nNot yet a member? Join/renew now for discounts and benefits all year long! \nNot yet a member? Join/renew now for discounts and benefits all year long!
URL:https://visitsfbg.org/event/pruning-basics-workshop-2026/
LOCATION:Santa Fe Botanical Garden\, 715 Camino Lejo\, Santa Fe\, NM\, 87505\, United States
CATEGORIES:Education,Workshops
ATTACH;FMTTYPE=image/jpeg:https://visitsfbg.org/wp-content/uploads/Linda-and-Noah-Pruning-1.jpg
END:VEVENT
END:VCALENDAR